BEGIN:VCALENDAR
VERSION:2.0
PRODID:-//time.you/holidays//NONSGML v1.0//EN
BEGIN:VEVENT
UID:a594e2a3-d05f-4883-99c4-a98ee885ddef
DTSTAMP:20260419T233606Z
DTSTART;VALUE=DATE:20260403
SUMMARY:Good Friday (Cocos Keeling Islands)
END:VEVENT
END:VCALENDAR