BEGIN:VCALENDAR
VERSION:2.0
PRODID:-//time.you/holidays//NONSGML v1.0//EN
BEGIN:VEVENT
UID:235fd8af-26f4-48ad-a6a9-18fbb04c5207
DTSTAMP:20260422T070820Z
DTSTART;VALUE=DATE:20260608
SUMMARY:King's Birthday (Cocos Keeling Islands)
END:VEVENT
END:VCALENDAR