BEGIN:VCALENDAR
VERSION:2.0
PRODID:-//time.you/holidays//NONSGML v1.0//EN
BEGIN:VEVENT
UID:a824782d-975a-4810-9da4-7ca3c5ccd48b
DTSTAMP:20260421T205712Z
DTSTART;VALUE=DATE:20221010
SUMMARY:Prophet's Birthday (observed) (Cocos Keeling Islands)
END:VEVENT
END:VCALENDAR