BEGIN:VCALENDAR
VERSION:2.0
PRODID:-//time.you/holidays//NONSGML v1.0//EN
BEGIN:VEVENT
UID:5b0bf06d-e1ad-4fab-baf7-ace6ff6c5d7e
DTSTAMP:20260422T024317Z
DTSTART;VALUE=DATE:20271101
SUMMARY:All Saints' Day (Colombia)
END:VEVENT
END:VCALENDAR