BEGIN:VCALENDAR
VERSION:2.0
PRODID:-//time.you/holidays//NONSGML v1.0//EN
BEGIN:VEVENT
UID:21dc1017-9eb9-4a12-a765-0bad3366fe14
DTSTAMP:20260421T193940Z
DTSTART;VALUE=DATE:20260518
SUMMARY:Ascension Day (observed) (Colombia)
END:VEVENT
END:VCALENDAR