BEGIN:VCALENDAR
VERSION:2.0
PRODID:-//time.you/holidays//NONSGML v1.0//EN
BEGIN:VEVENT
UID:627859ff-db90-492a-8bec-42d63184f1d5
DTSTAMP:20260420T152423Z
DTSTART;VALUE=DATE:20261225
SUMMARY:Christmas Day (Colombia)
END:VEVENT
END:VCALENDAR