BEGIN:VCALENDAR
VERSION:2.0
PRODID:-//time.you/holidays//NONSGML v1.0//EN
BEGIN:VEVENT
UID:783d3384-a7bb-4772-ae07-449690331e62
DTSTAMP:20260422T100540Z
DTSTART;VALUE=DATE:20261012
SUMMARY:Columbus Day (Colombia)
END:VEVENT
END:VCALENDAR