BEGIN:VCALENDAR
VERSION:2.0
PRODID:-//time.you/holidays//NONSGML v1.0//EN
BEGIN:VEVENT
UID:6c8848f0-0a1f-4335-8b5a-bbc73ffa076b
DTSTAMP:20260421T154142Z
DTSTART;VALUE=DATE:20260112
SUMMARY:Epiphany (observed) (Colombia)
END:VEVENT
END:VCALENDAR