BEGIN:VCALENDAR
VERSION:2.0
PRODID:-//time.you/holidays//NONSGML v1.0//EN
BEGIN:VEVENT
UID:6b5a7191-240c-47e9-b372-11ddab4357e6
DTSTAMP:20260423T092142Z
DTSTART;VALUE=DATE:20310106
SUMMARY:Epiphany (Colombia)
END:VEVENT
END:VCALENDAR