BEGIN:VCALENDAR
VERSION:2.0
PRODID:-//time.you/holidays//NONSGML v1.0//EN
BEGIN:VEVENT
UID:235d6684-cdb2-4e26-8c5f-b852e47cbaa1
DTSTAMP:20260421T152319Z
DTSTART;VALUE=DATE:20260403
SUMMARY:Good Friday (Colombia)
END:VEVENT
END:VCALENDAR