BEGIN:VCALENDAR
VERSION:2.0
PRODID:-//time.you/holidays//NONSGML v1.0//EN
BEGIN:VEVENT
UID:ea0b5355-96ea-48f6-aa47-c6af10d592ef
DTSTAMP:20260421T065202Z
DTSTART;VALUE=DATE:20261208
SUMMARY:Immaculate Conception (Colombia)
END:VEVENT
END:VCALENDAR