BEGIN:VCALENDAR
VERSION:2.0
PRODID:-//time.you/holidays//NONSGML v1.0//EN
BEGIN:VEVENT
UID:32f0db9e-82d7-4249-ba65-4dce31b6ed5a
DTSTAMP:20260420T053942Z
DTSTART;VALUE=DATE:20260720
SUMMARY:Independence Day (Colombia)
END:VEVENT
END:VCALENDAR