BEGIN:VCALENDAR
VERSION:2.0
PRODID:-//time.you/holidays//NONSGML v1.0//EN
BEGIN:VEVENT
UID:3a8b2775-5528-41ec-97ad-6926184dcefb
DTSTAMP:20260420T165126Z
DTSTART;VALUE=DATE:20260615
SUMMARY:Sacred Heart (observed) (Colombia)
END:VEVENT
END:VCALENDAR