BEGIN:VCALENDAR
VERSION:2.0
PRODID:-//time.you/holidays//NONSGML v1.0//EN
BEGIN:VEVENT
UID:f6f09e23-b114-4d79-bf08-6e29c2560eb6
DTSTAMP:20260421T211322Z
DTSTART;VALUE=DATE:20271225
SUMMARY:Christmas Day; Isra' and Mi'raj (estimated) (Comoros)
END:VEVENT
END:VCALENDAR