BEGIN:VCALENDAR
VERSION:2.0
PRODID:-//time.you/holidays//NONSGML v1.0//EN
BEGIN:VEVENT
UID:83e08b62-0207-47f5-8ff3-da330cf8919b
DTSTAMP:20260420T115715Z
DTSTART;VALUE=DATE:20260527
SUMMARY:Eid al-Adha (estimated) (Comoros)
END:VEVENT
END:VCALENDAR