BEGIN:VCALENDAR
VERSION:2.0
PRODID:-//time.you/holidays//NONSGML v1.0//EN
BEGIN:VEVENT
UID:66cbf64c-de4b-4f3d-bf8b-89fd6606559d
DTSTAMP:20260420T125129Z
DTSTART;VALUE=DATE:20260116
SUMMARY:Isra' and Mi'raj (estimated) (Comoros)
END:VEVENT
END:VCALENDAR