BEGIN:VCALENDAR
VERSION:2.0
PRODID:-//time.you/holidays//NONSGML v1.0//EN
BEGIN:VEVENT
UID:dc8a1ab0-fe45-4ed8-a55c-bcf07659701f
DTSTAMP:20260424T173252Z
DTSTART;VALUE=DATE:20261112
SUMMARY:Maore Day (Comoros)
END:VEVENT
END:VCALENDAR