BEGIN:VCALENDAR
VERSION:2.0
PRODID:-//time.you/holidays//NONSGML v1.0//EN
BEGIN:VEVENT
UID:3b353110-e698-43d4-b4d0-2be6546435b2
DTSTAMP:20260423T205742Z
DTSTART;VALUE=DATE:20211019
SUMMARY:Prophet's Birthday (Comoros)
END:VEVENT
END:VCALENDAR