BEGIN:VCALENDAR
VERSION:2.0
PRODID:-//time.you/holidays//NONSGML v1.0//EN
BEGIN:VEVENT
UID:6b176c41-03ad-4c3e-ad7c-552b72d9df0b
DTSTAMP:20260422T013642Z
DTSTART;VALUE=DATE:20260815
SUMMARY:National Day (Congo)
END:VEVENT
END:VCALENDAR