BEGIN:VCALENDAR
VERSION:2.0
PRODID:-//time.you/holidays//NONSGML v1.0//EN
BEGIN:VEVENT
UID:320221b8-a138-43ce-ae8d-cb93b0af7cb0
DTSTAMP:20260420T170843Z
DTSTART;VALUE=DATE:20260101
SUMMARY:New Year's Day (Congo)
END:VEVENT
END:VCALENDAR