BEGIN:VCALENDAR
VERSION:2.0
PRODID:-//time.you/holidays//NONSGML v1.0//EN
BEGIN:VEVENT
UID:f5d03dbb-a233-4700-bdf8-026c0c66448a
DTSTAMP:20260419T163628Z
DTSTART;VALUE=DATE:20260425
SUMMARY:Anzac Day (Cook Islands)
END:VEVENT
END:VCALENDAR