BEGIN:VCALENDAR
VERSION:2.0
PRODID:-//time.you/holidays//NONSGML v1.0//EN
BEGIN:VEVENT
UID:576910e0-e087-4d30-acfc-ea00258627d5
DTSTAMP:20260421T002730Z
DTSTART;VALUE=DATE:20260804
SUMMARY:Constitution Day (Cook Islands)
END:VEVENT
END:VCALENDAR