BEGIN:VCALENDAR
VERSION:2.0
PRODID:-//time.you/holidays//NONSGML v1.0//EN
BEGIN:VEVENT
UID:40767bab-e121-4d21-ae84-3b817c6f1b93
DTSTAMP:20260420T095843Z
DTSTART;VALUE=DATE:20260102
SUMMARY:Day after New Year's Day (Cook Islands)
END:VEVENT
END:VCALENDAR