BEGIN:VCALENDAR
VERSION:2.0
PRODID:-//time.you/holidays//NONSGML v1.0//EN
BEGIN:VEVENT
UID:fbbde118-ffc5-4588-91e2-e07cf3b00d2e
DTSTAMP:20260423T223340Z
DTSTART;VALUE=DATE:20260406
SUMMARY:Easter Monday (Cook Islands)
END:VEVENT
END:VCALENDAR