BEGIN:VCALENDAR
VERSION:2.0
PRODID:-//time.you/holidays//NONSGML v1.0//EN
BEGIN:VEVENT
UID:4d23683d-22b4-4953-8746-9d0cab489982
DTSTAMP:20260420T095648Z
DTSTART;VALUE=DATE:20260403
SUMMARY:Good Friday (Cook Islands)
END:VEVENT
END:VCALENDAR