BEGIN:VCALENDAR
VERSION:2.0
PRODID:-//time.you/holidays//NONSGML v1.0//EN
BEGIN:VEVENT
UID:26e306ac-013d-43e2-bf39-af6e465caa61
DTSTAMP:20260423T185522Z
DTSTART;VALUE=DATE:20280103
SUMMARY:New Year's Day (observed) (Cook Islands)
END:VEVENT
END:VCALENDAR