BEGIN:VCALENDAR
VERSION:2.0
PRODID:-//time.you/holidays//NONSGML v1.0//EN
BEGIN:VEVENT
UID:b4c11616-6fe3-48d5-8f3c-20deb88ae5fd
DTSTAMP:20260424T122322Z
DTSTART;VALUE=DATE:20260601
SUMMARY:Sovereign's Birthday (Cook Islands)
END:VEVENT
END:VCALENDAR