BEGIN:VCALENDAR
VERSION:2.0
PRODID:-//time.you/holidays//NONSGML v1.0//EN
BEGIN:VEVENT
UID:b21029fc-3bb6-4274-8706-51091230eba9
DTSTAMP:20260419T233613Z
DTSTART;VALUE=DATE:20260403
SUMMARY:Good Friday (Costa Rica)
END:VEVENT
END:VCALENDAR