BEGIN:VCALENDAR
VERSION:2.0
PRODID:-//time.you/holidays//NONSGML v1.0//EN
BEGIN:VEVENT
UID:2fed3845-7b7b-4265-b1dc-a0b40974fb95
DTSTAMP:20260424T143653Z
DTSTART;VALUE=DATE:20260915
SUMMARY:Independence Day (Costa Rica)
END:VEVENT
END:VCALENDAR