BEGIN:VCALENDAR
VERSION:2.0
PRODID:-//time.you/holidays//NONSGML v1.0//EN
BEGIN:VEVENT
UID:c0351130-b412-4e66-9027-c6d454368cf9
DTSTAMP:20260422T055048Z
DTSTART;VALUE=DATE:20260402
SUMMARY:Maundy Thursday (Costa Rica)
END:VEVENT
END:VCALENDAR