BEGIN:VCALENDAR
VERSION:2.0
PRODID:-//time.you/holidays//NONSGML v1.0//EN
BEGIN:VEVENT
UID:5ae87c15-63ea-48ed-83ef-8c45ad7cc1c5
DTSTAMP:20260419T234856Z
DTSTART;VALUE=DATE:20260101
SUMMARY:New Year's Day (Costa Rica)
END:VEVENT
END:VCALENDAR