BEGIN:VCALENDAR
VERSION:2.0
PRODID:-//time.you/holidays//NONSGML v1.0//EN
BEGIN:VEVENT
UID:9275c68c-6d73-4e62-9fbf-0f653d1a815d
DTSTAMP:20260420T064716Z
DTSTART;VALUE=DATE:20260514
SUMMARY:Ascension Day (Côte d'Ivoire)
END:VEVENT
END:VCALENDAR