BEGIN:VCALENDAR
VERSION:2.0
PRODID:-//time.you/holidays//NONSGML v1.0//EN
BEGIN:VEVENT
UID:e102b816-bc00-47c4-b92f-9ba351a8cc86
DTSTAMP:20260423T095708Z
DTSTART;VALUE=DATE:20260815
SUMMARY:Assumption Day (Côte d'Ivoire)
END:VEVENT
END:VCALENDAR