BEGIN:VCALENDAR
VERSION:2.0
PRODID:-//time.you/holidays//NONSGML v1.0//EN
BEGIN:VEVENT
UID:4b79b4b4-a984-437c-85d1-0d4815fc2359
DTSTAMP:20260420T013838Z
DTSTART;VALUE=DATE:20261225
SUMMARY:Christmas Day (Côte d'Ivoire)
END:VEVENT
END:VCALENDAR