BEGIN:VCALENDAR
VERSION:2.0
PRODID:-//time.you/holidays//NONSGML v1.0//EN
BEGIN:VEVENT
UID:0ca6a31b-1ca8-4836-bd28-b86633d6af86
DTSTAMP:20260420T084823Z
DTSTART;VALUE=DATE:20260316
SUMMARY:Day after Night of Power (Côte d'Ivoire)
END:VEVENT
END:VCALENDAR