BEGIN:VCALENDAR
VERSION:2.0
PRODID:-//time.you/holidays//NONSGML v1.0//EN
BEGIN:VEVENT
UID:56caf662-f373-4d5f-a04a-60a3aeacf29c
DTSTAMP:20260423T201900Z
DTSTART;VALUE=DATE:20331226
SUMMARY:Day after the Christmas Day (Côte d'Ivoire)
END:VEVENT
END:VCALENDAR