BEGIN:VCALENDAR
VERSION:2.0
PRODID:-//time.you/holidays//NONSGML v1.0//EN
BEGIN:VEVENT
UID:feca2948-cf0f-410f-b455-79520bef20bc
DTSTAMP:20260422T041341Z
DTSTART;VALUE=DATE:20330103
SUMMARY:Day after the Eid al-Fitr (Côte d'Ivoire)
END:VEVENT
END:VCALENDAR