BEGIN:VCALENDAR
VERSION:2.0
PRODID:-//time.you/holidays//NONSGML v1.0//EN
BEGIN:VEVENT
UID:89fbfe85-cfad-47bd-8aa0-dffcbe66c166
DTSTAMP:20260423T124738Z
DTSTART;VALUE=DATE:20330808
SUMMARY:Day after the Independence Day (Côte d'Ivoire)
END:VEVENT
END:VCALENDAR