BEGIN:VCALENDAR
VERSION:2.0
PRODID:-//time.you/holidays//NONSGML v1.0//EN
BEGIN:VEVENT
UID:130e11cc-a4c3-4481-bc65-0ad288e5a35b
DTSTAMP:20260423T131422Z
DTSTART;VALUE=DATE:20220502
SUMMARY:Day after the Labor Day; Eid al-Fitr (Côte d'Ivoire)
END:VEVENT
END:VCALENDAR