BEGIN:VCALENDAR
VERSION:2.0
PRODID:-//time.you/holidays//NONSGML v1.0//EN
BEGIN:VEVENT
UID:cc5b8725-8e8d-47b3-b903-11f170ccf207
DTSTAMP:20260421T125953Z
DTSTART;VALUE=DATE:20260406
SUMMARY:Easter Monday (Côte d'Ivoire)
END:VEVENT
END:VCALENDAR