BEGIN:VCALENDAR
VERSION:2.0
PRODID:-//time.you/holidays//NONSGML v1.0//EN
BEGIN:VEVENT
UID:49338a96-4816-4c99-b47a-074291f2f74d
DTSTAMP:20260421T180134Z
DTSTART;VALUE=DATE:20260527
SUMMARY:Eid al-Adha (Côte d'Ivoire)
END:VEVENT
END:VCALENDAR