BEGIN:VCALENDAR
VERSION:2.0
PRODID:-//time.you/holidays//NONSGML v1.0//EN
BEGIN:VEVENT
UID:05e1e9fb-ad1f-4e39-a6c9-c4548c42904c
DTSTAMP:20260422T064620Z
DTSTART;VALUE=DATE:20260807
SUMMARY:Independence Day (Côte d'Ivoire)
END:VEVENT
END:VCALENDAR