BEGIN:VCALENDAR
VERSION:2.0
PRODID:-//time.you/holidays//NONSGML v1.0//EN
BEGIN:VEVENT
UID:4cce4ac2-e444-4b20-abb9-1503702b606e
DTSTAMP:20260419T235515Z
DTSTART;VALUE=DATE:20260101
SUMMARY:New Year's Day (Côte d'Ivoire)
END:VEVENT
END:VCALENDAR