BEGIN:VCALENDAR
VERSION:2.0
PRODID:-//time.you/holidays//NONSGML v1.0//EN
BEGIN:VEVENT
UID:97f5546c-1ef6-4abd-8025-25b80f839271
DTSTAMP:20260421T193039Z
DTSTART;VALUE=DATE:20260525
SUMMARY:Whit Monday (Côte d'Ivoire)
END:VEVENT
END:VCALENDAR