BEGIN:VCALENDAR
VERSION:2.0
PRODID:-//time.you/holidays//NONSGML v1.0//EN
BEGIN:VEVENT
UID:11b0f9f9-6b76-4776-be7e-9245ed369f97
DTSTAMP:20260420T115932Z
DTSTART;VALUE=DATE:20261225
SUMMARY:Christmas Day (Croatia)
END:VEVENT
END:VCALENDAR