BEGIN:VCALENDAR
VERSION:2.0
PRODID:-//time.you/holidays//NONSGML v1.0//EN
BEGIN:VEVENT
UID:c0b2e018-e3d6-49a8-b339-7df7cf51e119
DTSTAMP:20260424T105914Z
DTSTART;VALUE=DATE:20240530
SUMMARY:Corpus Christi; Statehood Day (Croatia)
END:VEVENT
END:VCALENDAR