BEGIN:VCALENDAR
VERSION:2.0
PRODID:-//time.you/holidays//NONSGML v1.0//EN
BEGIN:VEVENT
UID:8138d6fe-1ed6-4f0a-ae3e-c66b826699c5
DTSTAMP:20260421T002726Z
DTSTART;VALUE=DATE:20260406
SUMMARY:Easter Monday (Croatia)
END:VEVENT
END:VCALENDAR