BEGIN:VCALENDAR
VERSION:2.0
PRODID:-//time.you/holidays//NONSGML v1.0//EN
BEGIN:VEVENT
UID:fec85665-d907-44c9-8c74-fb7c76a39a5c
DTSTAMP:20260424T172338Z
DTSTART;VALUE=DATE:20260106
SUMMARY:Epiphany (Croatia)
END:VEVENT
END:VCALENDAR