BEGIN:VCALENDAR
VERSION:2.0
PRODID:-//time.you/holidays//NONSGML v1.0//EN
BEGIN:VEVENT
UID:27c37844-8ad1-4c68-99ab-7c0a97c195a3
DTSTAMP:20260422T021416Z
DTSTART;VALUE=DATE:20261226
SUMMARY:Saint Stephen's Day (Croatia)
END:VEVENT
END:VCALENDAR