BEGIN:VCALENDAR
VERSION:2.0
PRODID:-//time.you/holidays//NONSGML v1.0//EN
BEGIN:VEVENT
UID:bb3d1432-4e4f-4ca1-8c45-02a4da3c9b9a
DTSTAMP:20260421T184251Z
DTSTART;VALUE=DATE:20260725
SUMMARY:Commemoration of the Assault of the Moncada garrison (Cuba)
END:VEVENT
END:VCALENDAR